BEGIN:VCALENDAR
VERSION:2.0
PRODID:-//eventon.com NONSGML v1.0//EN
CALSCALE:GREGORIAN
METHOD:PUBLISH
BEGIN:VEVENT
UID:69ea3c64f10b0
DTSTAMP:20260423T153604Z
DTSTART:19700101
DTEND:19700102
LOCATION:
SUMMARY:Anatomic and Clinical Pathology Needs in Transgender Care
DESCRIPTION:Medical and surgical gender-affirmation therapies for transgend
 er people have introduced a new spectrum to pathology practices. Sex hormon
 es influence both anatomic and clinical pathology\,  which can complicate r
 esult interpretation for surgical specimens\,  chemistry\,  hematology\,  a
 nd microbiology. This activity provides tools to help you successfully serv
 e the transgender population and address[..]\nhttps://www.captodayonline.co
 m/events/anatomic-and-clinical-pathology-needs-in-transgender-care/
URL:https://www.captodayonline.com/events/anatomic-and-clinical-pathology-needs-in-transgender-care/
END:VEVENT
END:VCALENDAR