BEGIN:VCALENDAR
VERSION:2.0
PRODID:-//eventon.com NONSGML v1.0//EN
CALSCALE:GREGORIAN
METHOD:PUBLISH
BEGIN:VEVENT
UID:69e58fe88b0e0
DTSTAMP:20260420T023104Z
DTSTART:20260118T100000Z
DTEND:20260122T163000Z
LOCATION:Hyatt Regency Phoenix Hotel — Phoenix\,  Arizona
SUMMARY:2026 Tutorial on Neoplastic Hematopathology
DESCRIPTION:The Tutorial on Neoplastic Hematopathology began over 50 years 
 ago by Dr. Henry Rappaport while at the University of Chicago. The course c
 ontinues to update participants on the latest on pathology of hematologic m
 alignancies presented by the leading faculty in the field. After 25 years o
 f outstanding leadership from Dr.[..]\nhttps://www.captodayonline.com/event
 s/2026-tutorial-on-neoplastic-hematopathology/
URL:https://www.captodayonline.com/events/2026-tutorial-on-neoplastic-hematopathology/
END:VEVENT
END:VCALENDAR