BEGIN:VCALENDAR
VERSION:2.0
PRODID:-//eventon.com NONSGML v1.0//EN
CALSCALE:GREGORIAN
METHOD:PUBLISH
BEGIN:VEVENT
UID:69ea52808bd35
DTSTAMP:20260423T171024Z
DTSTART:20260715T070000Z
DTEND:20260717T121500Z
LOCATION:Disney&#039;s BoardWalk Inn Orlando\,  Florida
SUMMARY:Pathology in the Park
DESCRIPTION:&nbsp; Pathology in the Park at Disney’s BoardWalk Inn will b
 ring you the perfect mix of education and escape. You’ll balance your day
 s between education sessions—featuring top faculty in GI\,  pancreas\,  
 and hematopathology—and time with family and friends at the parks or pool
 . Registration includes an exclusive VIP reception for you and three gue
 sts[..]\nhttps://www.captodayonline.com/events/pathology-in-the-park/
URL:https://www.captodayonline.com/events/pathology-in-the-park/
END:VEVENT
END:VCALENDAR