BEGIN:VCALENDAR
VERSION:2.0
PRODID:-//eventon.com NONSGML v1.0//EN
CALSCALE:GREGORIAN
METHOD:PUBLISH
BEGIN:VEVENT
UID:69ea3c7d6cadf
DTSTAMP:20260423T153629Z
DTSTART:20260507T143000Z
DTEND:20260508T190000Z
LOCATION:College of American Pathologists Headquarters — Northfield\,  IL
SUMMARY:Laboratory Medical Direction Workshop
DESCRIPTION:Laboratory Medical Direction Workshop Date: May 7 and 8\,  202
 6 Northfield\,  IL Tap into skills that will help you grow into a leader wi
 th Laboratory Medical Direction from the CAP. This hybrid program was writt
 en by medical directors\,  for medical directors. This in-person works
 hop with on-demand online courses provides a thorough and practical educat
 ion for pathologists and[..]\nhttps://www.captodayonline.com/events/laborat
 ory-medical-direction-workshop/
URL:https://www.captodayonline.com/events/laboratory-medical-direction-workshop/
END:VEVENT
END:VCALENDAR