BEGIN:VCALENDAR
VERSION:2.0
PRODID:-//eventon.com NONSGML v1.0//EN
CALSCALE:GREGORIAN
METHOD:PUBLISH
BEGIN:VEVENT
UID:69ea43fbbf7e1
DTSTAMP:20260423T160827Z
DTSTART:20260710T080000Z
DTEND:20260712T120000Z
LOCATION:Eau Palm Beach Resort — Palm Beach\,  FL
SUMMARY:Florida Society of Pathologists Summer Pathology Conference
DESCRIPTION:\nhttps://www.captodayonline.com/events/florida-society-of-path
 ologists-summer-pathology-conference/
URL:https://www.captodayonline.com/events/florida-society-of-pathologists-summer-pathology-conference/
END:VEVENT
END:VCALENDAR