BEGIN:VCALENDAR
VERSION:2.0
PRODID:-//eventon.com NONSGML v1.0//EN
CALSCALE:GREGORIAN
METHOD:PUBLISH
BEGIN:VEVENT
UID:69ea3c7cea380
DTSTAMP:20260423T153628Z
DTSTART:20260622T004600Z
DTEND:20260625T004600Z
LOCATION:The Lodge at Torrey Pines — La Jolla\,  California
SUMMARY:Practical Surgical Pathology: Diagnostic Pearls in Head and Neck\,  <br>Soft Tissue\,  Genitourinary and Hepatobiliary Pathology
DESCRIPTION:\nhttps://www.captodayonline.com/events/practical-surgical-path
 ology-diagnostic-pearls-in-head-and-neck-soft-tissue-genitourinary-and-hepa
 tobiliary-pathology/
URL:https://www.captodayonline.com/events/practical-surgical-pathology-diagnostic-pearls-in-head-and-neck-soft-tissue-genitourinary-and-hepatobiliary-pathology/
END:VEVENT
END:VCALENDAR