BEGIN:VCALENDAR
VERSION:2.0
PRODID:-//eventon.com NONSGML v1.0//EN
CALSCALE:GREGORIAN
METHOD:PUBLISH
BEGIN:VEVENT
UID:69ea3c6d3e224
DTSTAMP:20260423T153613Z
DTSTART:20260101
DTEND:20260201
LOCATION:
SUMMARY:Can You Bank on Your Blood Supply? Using Blood Wisely and in Shortages
DESCRIPTION:Are your transfusion guidelines up to date? Can you cope with a
  critical RBC or platelet shortage? This activity succinctly synthesizes cu
 rrent multidisciplinary transfusion practice recommendations for all blood 
 components into a logical framework applicable to peer education\,  blood m
 anagement programs\,  and electronic guidance for blood ordering. Included 
 within this[..]\nhttps://www.captodayonline.com/events/can-you-bank-on-your
 -blood-supply-using-blood-wisely-and-in-shortages/
URL:https://www.captodayonline.com/events/can-you-bank-on-your-blood-supply-using-blood-wisely-and-in-shortages/
END:VEVENT
END:VCALENDAR