BEGIN:VCALENDAR
VERSION:2.0
PRODID:-//eventon.com NONSGML v1.0//EN
CALSCALE:GREGORIAN
METHOD:PUBLISH
BEGIN:VEVENT
UID:69ea3c7b77ff8
DTSTAMP:20260423T153627Z
DTSTART:20260713T073000Z
DTEND:20260716T130000Z
LOCATION:Fairmont Orchid\,  Kohala Coast\,  Big Island of Hawaii 1 North Kaniku Drive
SUMMARY:11th Annual Dr. Richard L. Kempson Diagnostic Pathology Course: Updates in GI\,  GYN\,  Endocrine\,  Head and Neck\,  and Soft Tissue Lesions
DESCRIPTION:\nhttps://www.captodayonline.com/events/11th-annual-dr-richard-
 l-kempson-diagnostic-pathology-course-updates-in-gi-gyn-endocrine-head-and-
 neck-and-soft-tissue-lesions/
URL:https://www.captodayonline.com/events/11th-annual-dr-richard-l-kempson-diagnostic-pathology-course-updates-in-gi-gyn-endocrine-head-and-neck-and-soft-tissue-lesions/
END:VEVENT
END:VCALENDAR