BEGIN:VCALENDAR
VERSION:2.0
PRODID:-//eventon.com NONSGML v1.0//EN
CALSCALE:GREGORIAN
METHOD:PUBLISH
BEGIN:VEVENT
UID:69ea524a72683
DTSTAMP:20260423T170930Z
DTSTART:20260414T080000Z
DTEND:20260415T152000Z
LOCATION:Westin La Paloma 3800 E Sunrise Dr
SUMMARY:22nd Annual Tucson Symposium - Innovations in Cancer Medicine
DESCRIPTION:\nhttps://www.captodayonline.com/events/22nd-annual-tucson-symp
 osium-innovations-in-cancer-medicine/
URL:https://www.captodayonline.com/events/22nd-annual-tucson-symposium-innovations-in-cancer-medicine/
END:VEVENT
END:VCALENDAR