BEGIN:VCALENDAR
VERSION:2.0
PRODID:-//eventon.com NONSGML v1.0//EN
CALSCALE:GREGORIAN
METHOD:PUBLISH
BEGIN:VEVENT
UID:69ea526b64ab2
DTSTAMP:20260423T171003Z
DTSTART:20260425T080000Z
DTEND:20260428T160000Z
LOCATION:Grand Hyatt Washington — Washington\,  DC 1000 H Street NW
SUMMARY:House of Delegates & Pathologists Leadership Summit 2026
DESCRIPTION:Your voice matters. At the CAP House of Delegates &amp; Patholo
 gists Leadership Summit 2026\,  connect with fellow pathologists\,  advocat
 e for fair policies\,  and help ensure that pathology remains at the forefr
 ont of patient care. &nbsp; This in-person event spans four days and is de
 signed to advance your leadership and amplify your[..]\nhttps://www.captoda
 yonline.com/events/house-of-delegates-pathologists-leadership-summit-2026/
URL:https://www.captodayonline.com/events/house-of-delegates-pathologists-leadership-summit-2026/
END:VEVENT
END:VCALENDAR