BEGIN:VCALENDAR
VERSION:2.0
PRODID:-//eventon.com NONSGML v1.0//EN
CALSCALE:GREGORIAN
METHOD:PUBLISH
BEGIN:VEVENT
UID:69ea5269dad99
DTSTAMP:20260423T171001Z
DTSTART:20260502T090000Z
DTEND:20260517T162000Z
LOCATION:
SUMMARY:2026 Job Prep Bootcamp
DESCRIPTION:The Job Prep Bootcamp is a fast-paced interactive review of pat
 hology cases across multiple subspecialties\,  delivered in a virtual forma
 t. Over two weekends— 24 CME-accredited sessions taught via Zoom—you’
 ll dive into bread-and-butter cases as well as important rare entities. The
  Job Prep Bootcamp is a CAP member exclusive program designed[..]\nhttps://
 www.captodayonline.com/events/2026-job-prep-bootcamp/
URL:https://www.captodayonline.com/events/2026-job-prep-bootcamp/
END:VEVENT
END:VCALENDAR