BEGIN:VCALENDAR
VERSION:2.0
PRODID:-//eventon.com NONSGML v1.0//EN
CALSCALE:GREGORIAN
METHOD:PUBLISH
BEGIN:VEVENT
UID:69ea526a5141a
DTSTAMP:20260423T171002Z
DTSTART:20260416T170000Z
DTEND:20260416T180000Z
LOCATION:Virtual via Zoom
SUMMARY:Interactive Surgical Pathology Cases: GI Tumors with CAP Guideline Updates – 04/16/2026
DESCRIPTION:This live-streamed webinar is intended for those who want to sh
 arpen their skills and keep current on gastrointestinal neoplasms. Using a 
 case-based approach\,  expert faculty will present digitally-scanned slide 
 images and focus on a practical approach to diagnosis\,  ancillary techniqu
 es\,  and common pitfalls. The updated CAP guidelines related to HER2[..]\n
 https://www.captodayonline.com/events/interactive-surgical-pathology-cases-
 gi-tumors-with-cap-guideline-updates-04-16-2026/
URL:https://www.captodayonline.com/events/interactive-surgical-pathology-cases-gi-tumors-with-cap-guideline-updates-04-16-2026/
END:VEVENT
END:VCALENDAR