BEGIN:VCALENDAR
VERSION:2.0
PRODID:-//eventon.com NONSGML v1.0//EN
CALSCALE:GREGORIAN
METHOD:PUBLISH
BEGIN:VEVENT
UID:69ea526932fb5
DTSTAMP:20260423T171001Z
DTSTART:20260514T070000Z
DTEND:20260517T120000Z
LOCATION:InterContinental Hotel 9801 Carnegie Ave
SUMMARY:Comprehensive & Immersive Soft Tissue Pathology Course
DESCRIPTION:&nbsp; Offered both online and in person\,  this four-day cours
 e is designed specifically for pathologists in academic\,  community\,  and
  private practice settings\,  as well as trainees. Set within one of the na
 tion’s busiest soft tissue and sarcoma consultation services\,  it delive
 rs a one-of-a-kind\,  high-yield experience built around real-world cases a
 nd[..]\nhttps://www.captodayonline.com/events/comprehensive-immersive-soft-
 tissue-pathology-course/
URL:https://www.captodayonline.com/events/comprehensive-immersive-soft-tissue-pathology-course/
END:VEVENT
END:VCALENDAR